Package: NetActivity Version: 1.11.0 Command: /home/biocbuild/bbs-3.22-bioc/R/bin/R CMD build --keep-empty-dirs --no-resave-data --md5 NetActivity StartedAt: 2025-10-24 19:09:33 -0400 (Fri, 24 Oct 2025) EndedAt: 2025-10-24 19:10:32 -0400 (Fri, 24 Oct 2025) EllapsedTime: 59.1 seconds RetCode: 0 Status: OK PackageFile: NetActivity_1.11.0.tar.gz PackageFileSize: 429.1 KiB