Package: NetActivity Version: 1.12.0 Command: /Library/Frameworks/R.framework/Resources/bin/R CMD INSTALL NetActivity StartedAt: 2025-11-03 15:33:13 -0500 (Mon, 03 Nov 2025) EndedAt: 2025-11-03 15:33:46 -0500 (Mon, 03 Nov 2025) EllapsedTime: 32.9 seconds RetCode: 0 Status: OK