Package: NetActivity Version: 1.12.0 Command: /Library/Frameworks/R.framework/Resources/bin/R CMD build --keep-empty-dirs --no-resave-data NetActivity StartedAt: 2025-11-03 18:01:16 -0500 (Mon, 03 Nov 2025) EndedAt: 2025-11-03 18:02:31 -0500 (Mon, 03 Nov 2025) EllapsedTime: 75.1 seconds RetCode: 0 Status: OK PackageFile: NetActivity_1.12.0.tar.gz PackageFileSize: 438 KiB