Package: Nebulosa Version: 1.19.0 Command: /home/biocbuild/bbs-3.22-bioc/R/bin/R CMD INSTALL Nebulosa StartedAt: 2025-10-24 15:30:18 -0400 (Fri, 24 Oct 2025) EndedAt: 2025-10-24 15:30:49 -0400 (Fri, 24 Oct 2025) EllapsedTime: 31.3 seconds RetCode: 0 Status: OK