Package: Nebulosa Version: 1.19.0 Command: /home/biocbuild/bbs-3.22-bioc/R/bin/R CMD build --keep-empty-dirs --no-resave-data --md5 Nebulosa StartedAt: 2025-10-24 19:08:50 -0400 (Fri, 24 Oct 2025) EndedAt: 2025-10-24 19:11:37 -0400 (Fri, 24 Oct 2025) EllapsedTime: 167.1 seconds RetCode: 0 Status: OK PackageFile: Nebulosa_1.19.0.tar.gz PackageFileSize: 3.281 MiB