Package: NanoStringNCTools Version: 1.17.2 Command: /home/biocbuild/R/R/bin/R CMD build --keep-empty-dirs --no-resave-data NanoStringNCTools StartedAt: 2025-10-21 01:40:07 -0000 (Tue, 21 Oct 2025) EndedAt: 2025-10-21 01:40:51 -0000 (Tue, 21 Oct 2025) EllapsedTime: 44.0 seconds RetCode: 0 Status: OK PackageFile: NanoStringNCTools_1.17.2.tar.gz PackageFileSize: 507.5 KiB