Package: NanoStringNCTools Version: 1.17.2 Command: /home/biocbuild/bbs-3.22-bioc/R/bin/R CMD INSTALL NanoStringNCTools StartedAt: 2025-10-24 15:26:19 -0400 (Fri, 24 Oct 2025) EndedAt: 2025-10-24 15:26:36 -0400 (Fri, 24 Oct 2025) EllapsedTime: 17.5 seconds RetCode: 0 Status: OK