Package: NanoStringNCTools Version: 1.17.2 Command: /home/biocbuild/bbs-3.22-bioc/R/bin/R CMD build --keep-empty-dirs --no-resave-data --md5 NanoStringNCTools StartedAt: 2025-10-24 19:07:48 -0400 (Fri, 24 Oct 2025) EndedAt: 2025-10-24 19:08:19 -0400 (Fri, 24 Oct 2025) EllapsedTime: 31.0 seconds RetCode: 0 Status: OK PackageFile: NanoStringNCTools_1.17.2.tar.gz PackageFileSize: 503 KiB