Package: NanoStringNCTools Version: 1.17.2 Command: /Library/Frameworks/R.framework/Resources/bin/R CMD build --keep-empty-dirs --no-resave-data NanoStringNCTools StartedAt: 2025-10-24 18:01:37 -0400 (Fri, 24 Oct 2025) EndedAt: 2025-10-24 18:02:18 -0400 (Fri, 24 Oct 2025) EllapsedTime: 41.1 seconds RetCode: 0 Status: OK PackageFile: NanoStringNCTools_1.17.2.tar.gz PackageFileSize: 505.7 KiB