Package: NanoStringNCTools Version: 1.17.2 Command: rm -rf NanoStringNCTools.buildbin-libdir && mkdir NanoStringNCTools.buildbin-libdir && /Users/biocbuild/BBS/utils/build-universal.sh NanoStringNCTools_1.17.2.tar.gz /Library/Frameworks/R.framework/Resources/bin/R NanoStringNCTools.buildbin-libdir StartedAt: 2025-10-25 01:52:50 -0400 (Sat, 25 Oct 2025) EndedAt: 2025-10-25 01:53:18 -0400 (Sat, 25 Oct 2025) EllapsedTime: 27.8 seconds RetCode: 0 Status: OK PackageFile: NanoStringNCTools_1.17.2.tgz PackageFileSize: 1.049 MiB