Package: NanoStringNCTools Version: 1.17.2 Command: /Library/Frameworks/R.framework/Resources/bin/R CMD INSTALL NanoStringNCTools StartedAt: 2025-10-26 15:08:33 -0400 (Sun, 26 Oct 2025) EndedAt: 2025-10-26 15:08:40 -0400 (Sun, 26 Oct 2025) EllapsedTime: 7.3 seconds RetCode: 0 Status: OK