Package: NanoStringNCTools Version: 1.18.0 Command: /Library/Frameworks/R.framework/Resources/bin/R CMD check --install=check:NanoStringNCTools.install-out.txt --library=/Library/Frameworks/R.framework/Resources/library --no-vignettes --timings NanoStringNCTools_1.18.0.tar.gz StartedAt: 2025-11-06 21:02:40 -0500 (Thu, 06 Nov 2025) EndedAt: 2025-11-06 21:03:27 -0500 (Thu, 06 Nov 2025) EllapsedTime: 47.6 seconds RetCode: 0 Status: OK CheckDir: NanoStringNCTools.Rcheck Warnings: 0