Package: NanoStringNCTools Version: 1.17.2 Command: /Library/Frameworks/R.framework/Resources/bin/R CMD build --keep-empty-dirs --no-resave-data NanoStringNCTools StartedAt: 2025-10-26 17:22:05 -0400 (Sun, 26 Oct 2025) EndedAt: 2025-10-26 17:22:17 -0400 (Sun, 26 Oct 2025) EllapsedTime: 11.1 seconds RetCode: 0 Status: OK PackageFile: NanoStringNCTools_1.17.2.tar.gz PackageFileSize: 505.8 KiB