Package: NanoStringNCTools Version: 1.17.2 Maintainer: Maddy Griswold MaintainerEmail: mgriswold at nanostring.com git_url: https://git.bioconductor.org/packages/NanoStringNCTools git_branch: devel git_last_commit: d043c64 git_last_commit_date: 2025-09-29 14:09:40 -0400 (Mon, 29 Sep 2025)