Package: NanoStringDiff Version: 1.39.0 Command: /Library/Frameworks/R.framework/Resources/bin/R CMD check --install=check:NanoStringDiff.install-out.txt --library=/Library/Frameworks/R.framework/Resources/library --no-vignettes --timings NanoStringDiff_1.39.0.tar.gz StartedAt: 2025-10-27 23:23:03 -0400 (Mon, 27 Oct 2025) EndedAt: 2025-10-27 23:25:10 -0400 (Mon, 27 Oct 2025) EllapsedTime: 126.1 seconds RetCode: 0 Status: WARNINGS CheckDir: NanoStringDiff.Rcheck Warnings: 1