Package: NanoStringDiff Version: 1.39.0 Command: /Library/Frameworks/R.framework/Resources/bin/R CMD check --install=check:NanoStringDiff.install-out.txt --library=/Library/Frameworks/R.framework/Resources/library --no-vignettes --timings NanoStringDiff_1.39.0.tar.gz StartedAt: 2025-10-24 21:01:43 -0400 (Fri, 24 Oct 2025) EndedAt: 2025-10-24 21:02:34 -0400 (Fri, 24 Oct 2025) EllapsedTime: 50.6 seconds RetCode: 0 Status: WARNINGS CheckDir: NanoStringDiff.Rcheck Warnings: 1