Package: NanoMethViz Version: 3.5.6 Command: /Library/Frameworks/R.framework/Resources/bin/R CMD INSTALL NanoMethViz StartedAt: 2025-10-26 15:28:48 -0400 (Sun, 26 Oct 2025) EndedAt: 2025-10-26 15:29:13 -0400 (Sun, 26 Oct 2025) EllapsedTime: 25.1 seconds RetCode: 0 Status: OK