Package: NanoMethViz Version: 3.5.6 Command: /Library/Frameworks/R.framework/Resources/bin/R CMD build --keep-empty-dirs --no-resave-data NanoMethViz StartedAt: 2025-10-26 17:21:55 -0400 (Sun, 26 Oct 2025) EndedAt: 2025-10-26 17:22:51 -0400 (Sun, 26 Oct 2025) EllapsedTime: 55.6 seconds RetCode: 0 Status: OK PackageFile: NanoMethViz_3.5.6.tar.gz PackageFileSize: 13.98 MiB