Package: NPARC Version: 1.21.0 Command: /home/biocbuild/bbs-3.22-bioc/R/bin/R CMD build --keep-empty-dirs --no-resave-data --md5 NPARC StartedAt: 2025-10-24 19:12:02 -0400 (Fri, 24 Oct 2025) EndedAt: 2025-10-24 19:15:29 -0400 (Fri, 24 Oct 2025) EllapsedTime: 207.2 seconds RetCode: 0 Status: OK PackageFile: NPARC_1.21.0.tar.gz PackageFileSize: 2.257 MiB