Package: NOISeq Version: 2.53.0 Command: /home/biocbuild/bbs-3.22-bioc/R/bin/R CMD INSTALL NOISeq StartedAt: 2025-10-24 15:23:52 -0400 (Fri, 24 Oct 2025) EndedAt: 2025-10-24 15:24:01 -0400 (Fri, 24 Oct 2025) EllapsedTime: 9.8 seconds RetCode: 0 Status: OK