Package: NOISeq Version: 2.53.0 Command: /home/biocbuild/bbs-3.22-bioc/R/bin/R CMD build --keep-empty-dirs --no-resave-data --md5 NOISeq StartedAt: 2025-10-24 19:10:48 -0400 (Fri, 24 Oct 2025) EndedAt: 2025-10-24 19:11:40 -0400 (Fri, 24 Oct 2025) EllapsedTime: 52.0 seconds RetCode: 0 Status: OK PackageFile: NOISeq_2.53.0.tar.gz PackageFileSize: 2.06 MiB