Package: NCIgraph Version: 1.57.0 Command: /home/biocbuild/bbs-3.22-bioc/R/bin/R CMD INSTALL NCIgraph StartedAt: 2025-10-24 15:25:41 -0400 (Fri, 24 Oct 2025) EndedAt: 2025-10-24 15:25:48 -0400 (Fri, 24 Oct 2025) EllapsedTime: 6.9 seconds RetCode: 0 Status: OK