Package: NBAMSeq Version: 1.25.0 Command: /home/biocbuild/bbs-3.22-bioc/R/bin/R CMD INSTALL NBAMSeq StartedAt: 2025-10-27 15:39:36 -0400 (Mon, 27 Oct 2025) EndedAt: 2025-10-27 15:40:06 -0400 (Mon, 27 Oct 2025) EllapsedTime: 30.2 seconds RetCode: 0 Status: OK