Package: NBAMSeq Version: 1.26.0 Command: /home/biocbuild/bbs-3.22-bioc/R/bin/R CMD check --install=check:NBAMSeq.install-out.txt --library=/home/biocbuild/bbs-3.22-bioc/R/site-library --timings NBAMSeq_1.26.0.tar.gz StartedAt: 2025-11-03 02:20:48 -0500 (Mon, 03 Nov 2025) EndedAt: 2025-11-03 02:24:50 -0500 (Mon, 03 Nov 2025) EllapsedTime: 242.2 seconds RetCode: 0 Status: OK CheckDir: NBAMSeq.Rcheck Warnings: 0