Package: NBAMSeq Version: 1.25.0 Command: /Library/Frameworks/R.framework/Resources/bin/R CMD INSTALL NBAMSeq StartedAt: 2025-10-27 15:19:31 -0400 (Mon, 27 Oct 2025) EndedAt: 2025-10-27 15:19:44 -0400 (Mon, 27 Oct 2025) EllapsedTime: 12.9 seconds RetCode: 0 Status: OK