Package: NBAMSeq Version: 1.25.0 Command: /Library/Frameworks/R.framework/Resources/bin/R CMD build --keep-empty-dirs --no-resave-data NBAMSeq StartedAt: 2025-10-26 17:22:09 -0400 (Sun, 26 Oct 2025) EndedAt: 2025-10-26 17:22:30 -0400 (Sun, 26 Oct 2025) EllapsedTime: 20.2 seconds RetCode: 0 Status: OK PackageFile: NBAMSeq_1.25.0.tar.gz PackageFileSize: 346.5 KiB