Package: NBAMSeq Version: 1.26.0 Maintainer: Xu Ren MaintainerEmail: xuren2120 at gmail.com git_url: https://git.bioconductor.org/packages/NBAMSeq git_branch: RELEASE_3_22 git_last_commit: 4d8f91b git_last_commit_date: 2025-10-29 10:51:23 -0400 (Wed, 29 Oct 2025)