Package: NADfinder Version: 1.33.0 Command: /home/biocbuild/bbs-3.22-bioc/R/bin/R CMD INSTALL NADfinder StartedAt: 2025-10-24 16:07:20 -0400 (Fri, 24 Oct 2025) EndedAt: 2025-10-24 16:08:27 -0400 (Fri, 24 Oct 2025) EllapsedTime: 67.5 seconds RetCode: 0 Status: OK