Package: MutationalPatterns Version: 3.20.0 Command: /home/biocbuild/R/R/bin/R CMD check --install=check:MutationalPatterns.install-out.txt --library=/home/biocbuild/R/R/site-library --no-vignettes --timings MutationalPatterns_3.20.0.tar.gz StartedAt: 2025-11-14 12:08:41 -0000 (Fri, 14 Nov 2025) EndedAt: 2025-11-14 12:25:08 -0000 (Fri, 14 Nov 2025) EllapsedTime: 986.7 seconds RetCode: 1 Status: ERROR CheckDir: MutationalPatterns.Rcheck Warnings: NA