Package: MutationalPatterns Version: 3.19.1 Command: /home/biocbuild/bbs-3.22-bioc/R/bin/R CMD check --install=check:MutationalPatterns.install-out.txt --library=/home/biocbuild/bbs-3.22-bioc/R/site-library --timings MutationalPatterns_3.19.1.tar.gz StartedAt: 2025-10-25 02:04:40 -0400 (Sat, 25 Oct 2025) EndedAt: 2025-10-25 02:24:29 -0400 (Sat, 25 Oct 2025) EllapsedTime: 1189.3 seconds RetCode: 1 Status: ERROR CheckDir: MutationalPatterns.Rcheck Warnings: NA