Package: MutationalPatterns Version: 3.19.1 Command: /Library/Frameworks/R.framework/Resources/bin/R CMD INSTALL MutationalPatterns StartedAt: 2025-10-26 15:22:17 -0400 (Sun, 26 Oct 2025) EndedAt: 2025-10-26 15:22:25 -0400 (Sun, 26 Oct 2025) EllapsedTime: 7.4 seconds RetCode: 0 Status: OK