Package: MutationalPatterns Version: 3.19.1 Command: /Library/Frameworks/R.framework/Resources/bin/R CMD build --keep-empty-dirs --no-resave-data MutationalPatterns StartedAt: 2025-10-26 17:20:54 -0400 (Sun, 26 Oct 2025) EndedAt: 2025-10-26 17:31:11 -0400 (Sun, 26 Oct 2025) EllapsedTime: 617.4 seconds RetCode: 1 Status: ERROR PackageFile: None PackageFileSize: NA