Package: MultimodalExperiment Version: 1.9.0 Command: /home/biocbuild/bbs-3.22-bioc/R/bin/R CMD INSTALL MultimodalExperiment StartedAt: 2025-10-24 15:33:09 -0400 (Fri, 24 Oct 2025) EndedAt: 2025-10-24 15:33:36 -0400 (Fri, 24 Oct 2025) EllapsedTime: 27.1 seconds RetCode: 0 Status: OK