Package: MultimodalExperiment Version: 1.9.0 Command: /home/biocbuild/bbs-3.22-bioc/R/bin/R CMD check --install=check:MultimodalExperiment.install-out.txt --library=/home/biocbuild/bbs-3.22-bioc/R/site-library --timings MultimodalExperiment_1.9.0.tar.gz StartedAt: 2025-10-25 02:03:05 -0400 (Sat, 25 Oct 2025) EndedAt: 2025-10-25 02:06:13 -0400 (Sat, 25 Oct 2025) EllapsedTime: 188.2 seconds RetCode: 0 Status: OK CheckDir: MultimodalExperiment.Rcheck Warnings: 0