Package: MultimodalExperiment Version: 1.9.0 Command: /home/biocbuild/bbs-3.22-bioc/R/bin/R CMD build --keep-empty-dirs --no-resave-data --md5 MultimodalExperiment StartedAt: 2025-10-24 19:05:39 -0400 (Fri, 24 Oct 2025) EndedAt: 2025-10-24 19:06:21 -0400 (Fri, 24 Oct 2025) EllapsedTime: 42.0 seconds RetCode: 0 Status: OK PackageFile: MultimodalExperiment_1.9.0.tar.gz PackageFileSize: 2.534 MiB