Package: MultimodalExperiment Version: 1.9.0 Command: /Library/Frameworks/R.framework/Resources/bin/R CMD INSTALL MultimodalExperiment StartedAt: 2025-10-26 15:11:56 -0400 (Sun, 26 Oct 2025) EndedAt: 2025-10-26 15:12:07 -0400 (Sun, 26 Oct 2025) EllapsedTime: 11.2 seconds RetCode: 0 Status: OK