Package: MultiRNAflow Version: 1.7.2 Command: /home/biocbuild/bbs-3.22-bioc/R/bin/R CMD check --install=check:MultiRNAflow.install-out.txt --library=/home/biocbuild/bbs-3.22-bioc/R/site-library --timings MultiRNAflow_1.7.2.tar.gz StartedAt: 2025-10-25 02:03:13 -0400 (Sat, 25 Oct 2025) EndedAt: 2025-10-25 02:17:50 -0400 (Sat, 25 Oct 2025) EllapsedTime: 877.0 seconds RetCode: 0 Status: OK CheckDir: MultiRNAflow.Rcheck Warnings: 0