Package: MultiRNAflow Version: 1.7.2 Command: /Library/Frameworks/R.framework/Resources/bin/R CMD build --keep-empty-dirs --no-resave-data MultiRNAflow StartedAt: 2025-10-27 17:53:39 -0400 (Mon, 27 Oct 2025) EndedAt: 2025-10-27 18:01:40 -0400 (Mon, 27 Oct 2025) EllapsedTime: 480.1 seconds RetCode: 0 Status: OK PackageFile: MultiRNAflow_1.7.2.tar.gz PackageFileSize: 3.129 MiB