Package: MultiRNAflow Version: 1.7.2 Command: rm -rf MultiRNAflow.buildbin-libdir && mkdir MultiRNAflow.buildbin-libdir && /Users/biocbuild/BBS/utils/build-universal.sh MultiRNAflow_1.7.2.tar.gz /Library/Frameworks/R.framework/Resources/bin/R MultiRNAflow.buildbin-libdir StartedAt: 2025-10-25 01:52:27 -0400 (Sat, 25 Oct 2025) EndedAt: 2025-10-25 01:53:53 -0400 (Sat, 25 Oct 2025) EllapsedTime: 86.6 seconds RetCode: 0 Status: OK PackageFile: MultiRNAflow_1.7.2.tgz PackageFileSize: 3.022 MiB