Package: MultiRNAflow Version: 1.7.2 Command: /Library/Frameworks/R.framework/Resources/bin/R CMD INSTALL MultiRNAflow StartedAt: 2025-10-26 15:11:44 -0400 (Sun, 26 Oct 2025) EndedAt: 2025-10-26 15:12:06 -0400 (Sun, 26 Oct 2025) EllapsedTime: 21.4 seconds RetCode: 0 Status: OK