Package: MultiRNAflow Version: 1.7.2 Maintainer: Rodolphe Loubaton MaintainerEmail: loubaton.rodolphe at gmail.com git_url: https://git.bioconductor.org/packages/MultiRNAflow git_branch: devel git_last_commit: abe36dd git_last_commit_date: 2025-10-20 17:54:39 -0400 (Mon, 20 Oct 2025)