Package: MultiMed Version: 2.31.0 Command: /home/biocbuild/bbs-3.22-bioc/R/bin/R CMD build --keep-empty-dirs --no-resave-data --md5 MultiMed StartedAt: 2025-10-27 18:57:06 -0400 (Mon, 27 Oct 2025) EndedAt: 2025-10-27 18:57:13 -0400 (Mon, 27 Oct 2025) EllapsedTime: 7.0 seconds RetCode: 0 Status: OK PackageFile: MultiMed_2.31.0.tar.gz PackageFileSize: 508.9 KiB