Package: MultiDataSet Version: 1.37.0 Command: /home/biocbuild/R/R/bin/R CMD INSTALL MultiDataSet StartedAt: 2025-10-23 20:41:04 -0000 (Thu, 23 Oct 2025) EndedAt: 2025-10-23 20:41:34 -0000 (Thu, 23 Oct 2025) EllapsedTime: 30.3 seconds RetCode: 0 Status: OK