Package: MultiDataSet Version: 1.37.0 Command: /home/biocbuild/bbs-3.22-bioc/R/bin/R CMD build --keep-empty-dirs --no-resave-data --md5 MultiDataSet StartedAt: 2025-10-24 19:05:13 -0400 (Fri, 24 Oct 2025) EndedAt: 2025-10-24 19:06:05 -0400 (Fri, 24 Oct 2025) EllapsedTime: 51.1 seconds RetCode: 0 Status: OK PackageFile: MultiDataSet_1.37.0.tar.gz PackageFileSize: 497.5 KiB