Package: MultiDataSet Version: 1.37.0 Command: /Library/Frameworks/R.framework/Resources/bin/R CMD build --keep-empty-dirs --no-resave-data MultiDataSet StartedAt: 2025-10-24 17:59:47 -0400 (Fri, 24 Oct 2025) EndedAt: 2025-10-24 18:00:52 -0400 (Fri, 24 Oct 2025) EllapsedTime: 65.3 seconds RetCode: 0 Status: OK PackageFile: MultiDataSet_1.37.0.tar.gz PackageFileSize: 494.7 KiB