Package: MultiDataSet Version: 1.37.0 Command: /Library/Frameworks/R.framework/Resources/bin/R CMD INSTALL MultiDataSet StartedAt: 2025-10-24 15:15:44 -0400 (Fri, 24 Oct 2025) EndedAt: 2025-10-24 15:15:54 -0400 (Fri, 24 Oct 2025) EllapsedTime: 9.9 seconds RetCode: 0 Status: OK