Package: MultiDataSet Version: 1.37.0 Command: /Library/Frameworks/R.framework/Resources/bin/R CMD check --install=check:MultiDataSet.install-out.txt --library=/Library/Frameworks/R.framework/Resources/library --no-vignettes --timings MultiDataSet_1.37.0.tar.gz StartedAt: 2025-10-24 20:58:56 -0400 (Fri, 24 Oct 2025) EndedAt: 2025-10-24 21:00:03 -0400 (Fri, 24 Oct 2025) EllapsedTime: 66.8 seconds RetCode: 0 Status: WARNINGS CheckDir: MultiDataSet.Rcheck Warnings: 1