Package: MultiBaC Version: 1.20.0 Command: /home/biocbuild/bbs-3.22-bioc/R/bin/R CMD check --install=check:MultiBaC.install-out.txt --library=/home/biocbuild/bbs-3.22-bioc/R/site-library --timings MultiBaC_1.20.0.tar.gz StartedAt: 2025-11-03 02:14:56 -0500 (Mon, 03 Nov 2025) EndedAt: 2025-11-03 02:18:12 -0500 (Mon, 03 Nov 2025) EllapsedTime: 196.2 seconds RetCode: 0 Status: OK CheckDir: MultiBaC.Rcheck Warnings: 0