Package: MultiBaC Version: 1.19.0 Command: /Library/Frameworks/R.framework/Resources/bin/R CMD INSTALL MultiBaC StartedAt: 2025-10-24 15:42:09 -0400 (Fri, 24 Oct 2025) EndedAt: 2025-10-24 15:42:18 -0400 (Fri, 24 Oct 2025) EllapsedTime: 8.8 seconds RetCode: 0 Status: OK