Package: MultiBaC Version: 1.19.0 Command: /Library/Frameworks/R.framework/Resources/bin/R CMD build --keep-empty-dirs --no-resave-data MultiBaC StartedAt: 2025-10-27 17:53:02 -0400 (Mon, 27 Oct 2025) EndedAt: 2025-10-27 17:54:16 -0400 (Mon, 27 Oct 2025) EllapsedTime: 74.3 seconds RetCode: 0 Status: OK PackageFile: MultiBaC_1.19.0.tar.gz PackageFileSize: 1.743 MiB